BEGIN:VCALENDAR
VERSION:2.0
PRODID:-//INspire! Youth Ministry - ECPv6.15.3//NONSGML v1.0//EN
CALSCALE:GREGORIAN
METHOD:PUBLISH
X-ORIGINAL-URL:https://youth.ccprovidence.org
X-WR-CALDESC:Events for INspire! Youth Ministry
REFRESH-INTERVAL;VALUE=DURATION:PT1H
X-Robots-Tag:noindex
X-PUBLISHED-TTL:PT1H
BEGIN:VTIMEZONE
TZID:UTC
BEGIN:STANDARD
TZOFFSETFROM:+0000
TZOFFSETTO:+0000
TZNAME:UTC
DTSTART:20160101T000000
END:STANDARD
END:VTIMEZONE
BEGIN:VEVENT
DTSTART;TZID=UTC:20170810T080000
DTEND;TZID=UTC:20170810T120000
DTSTAMP:20260423T200207
CREATED:20170626T213738Z
LAST-MODIFIED:20170626T213738Z
UID:576-1502352000-1502366400@youth.ccprovidence.org
SUMMARY:Project Outreach
DESCRIPTION:
URL:https://youth.ccprovidence.org/event/project-outreach/
LOCATION:Providence Calvary Chapel\, 1601 W. Main St.\, Collegeville\, 19403\, United States
CATEGORIES:Mission,Outreach
ORGANIZER;CN="Mr. Jae & Ms. Jen":MAILTO:youth@ccprovidence.org
END:VEVENT
BEGIN:VEVENT
DTSTART;TZID=UTC:20170805T090000
DTEND;TZID=UTC:20170805T140000
DTSTAMP:20260423T200207
CREATED:20170626T213545Z
LAST-MODIFIED:20170626T213545Z
UID:574-1501923600-1501941600@youth.ccprovidence.org
SUMMARY:Brown Bag Lunches In Pottstown
DESCRIPTION:We will spend the morning putting together bagged lunches\, then will drive to Pottstown and serve the people there.
URL:https://youth.ccprovidence.org/event/brown-bag-lunches-in-pottstown/
LOCATION:Providence Calvary Chapel\, 1601 W. Main St.\, Collegeville\, 19403\, United States
CATEGORIES:Mission,Outreach
ORGANIZER;CN="Mr. Jae & Ms. Jen":MAILTO:youth@ccprovidence.org
END:VEVENT
BEGIN:VEVENT
DTSTART;TZID=UTC:20170729T160000
DTEND;TZID=UTC:20170729T200000
DTSTAMP:20260423T200207
CREATED:20170626T204131Z
LAST-MODIFIED:20170626T213238Z
UID:568-1501344000-1501358400@youth.ccprovidence.org
SUMMARY:Chosen 300 - Pottstown
DESCRIPTION:We will help set up the dining room\, serve a meal to the guests\, and talk with them\, sharing the Love of Christ and the Hope of His salvation with those who come out for the needed meal.
URL:https://youth.ccprovidence.org/event/chosen-300-pottstown/
LOCATION:Emmanuel Lutheran Church\, 150 North Hanover St.\, Pottstown\, PA\, 19464\, United States
CATEGORIES:Mission
ORGANIZER;CN="Mr. Jae & Ms. Jen":MAILTO:youth@ccprovidence.org
END:VEVENT
BEGIN:VEVENT
DTSTART;VALUE=DATE:20170621
DTEND;VALUE=DATE:20170622
DTSTAMP:20260423T200207
CREATED:20170611T150035Z
LAST-MODIFIED:20170611T150035Z
UID:559-1498003200-1498089599@youth.ccprovidence.org
SUMMARY:IN! at The Rock
DESCRIPTION:
URL:https://youth.ccprovidence.org/event/in-at-the-rock/
LOCATION:Rock Ministries\, 2755 Kensington Avenue\, Philadelphia \, PA\, 19134\, United States
CATEGORIES:Mission
ORGANIZER;CN="Mr. Jae & Ms. Jen":MAILTO:youth@ccprovidence.org
END:VEVENT
BEGIN:VEVENT
DTSTART;VALUE=DATE:20160625
DTEND;VALUE=DATE:20160702
DTSTAMP:20260423T200207
CREATED:20160623T122449Z
LAST-MODIFIED:20160623T130036Z
UID:535-1466812800-1467417599@youth.ccprovidence.org
SUMMARY:2016 Missions Trip
DESCRIPTION:We will be helping to run VBS programs for local churches near Camp Ichthus.  Camp Ichthus will be our home base of operations. \nWe’ll be leaving Providence Calvary Chapel at 2:00 \nPertinent INFO: \nPacking List \nPrivodence Calvary Chapel Activity Participation Form \nCamp Ichthus Medical/Permission Form
URL:https://youth.ccprovidence.org/event/2016-missions-trip/
LOCATION:Providence Calvary Chapel\, 1601 W. Main St.\, Collegeville\, 19403\, United States
CATEGORIES:Mission
ATTACH;FMTTYPE=image/jpeg:https://youth.ccprovidence.org/wp-content/uploads/ngg_featured/RADIATE_2016.jpg
ORGANIZER;CN="Mr. Jae & Ms. Jen":MAILTO:youth@ccprovidence.org
END:VEVENT
BEGIN:VEVENT
DTSTART;TZID=UTC:20160514T090000
DTEND;TZID=UTC:20160514T140000
DTSTAMP:20260423T200207
CREATED:20160509T011626Z
LAST-MODIFIED:20160509T011757Z
UID:518-1463216400-1463234400@youth.ccprovidence.org
SUMMARY:Bagged Lunches for Homeless
DESCRIPTION:
URL:https://youth.ccprovidence.org/event/bagged-lunches-for-homeless/
LOCATION:Providence Calvary Chapel\, 1601 W. Main St.\, Collegeville\, 19403\, United States
CATEGORIES:Fundraiser,Mission,Outreach
ATTACH;FMTTYPE=image/png:https://youth.ccprovidence.org/wp-content/uploads/ngg_featured/brownbaglunch1.png
ORGANIZER;CN="Mr. Jae & Ms. Jen":MAILTO:youth@ccprovidence.org
END:VEVENT
END:VCALENDAR