BEGIN:VCALENDAR
VERSION:2.0
PRODID:-//INspire! Youth Ministry - ECPv6.15.3//NONSGML v1.0//EN
CALSCALE:GREGORIAN
METHOD:PUBLISH
X-ORIGINAL-URL:https://youth.ccprovidence.org
X-WR-CALDESC:Events for INspire! Youth Ministry
REFRESH-INTERVAL;VALUE=DURATION:PT1H
X-Robots-Tag:noindex
X-PUBLISHED-TTL:PT1H
BEGIN:VTIMEZONE
TZID:UTC
BEGIN:STANDARD
TZOFFSETFROM:+0000
TZOFFSETTO:+0000
TZNAME:UTC
DTSTART:20170101T000000
END:STANDARD
END:VTIMEZONE
BEGIN:VEVENT
DTSTART;VALUE=DATE:20170706
DTEND;VALUE=DATE:20170709
DTSTAMP:20260423T212910
CREATED:20170626T203807Z
LAST-MODIFIED:20170704T175344Z
UID:566-1499299200-1499558399@youth.ccprovidence.org
SUMMARY:Youth Conference East
DESCRIPTION:For those going to Youth Conference East\, here are the final details you may need to know: \nWe are meeting at Providence Calvary Chapel at 1:45 on Thursday afternoon.  We will be returning home on Saturday afternoon\, around 2pm. \nPACKING LIST:\n– Bible\n– notebook if you like to take notes & writing utensil\n– clothes for 3 days\n– sleep wear\n– swimsuit if you want to swim (there’s a pool at the hotel)\,\n– comfortable shoes.\n– Hoodie if you get chilly in A/C. The girls remember being cold during the teaching sessions last time.
URL:https://youth.ccprovidence.org/event/youth-conference-east/
CATEGORIES:Conference
END:VEVENT
END:VCALENDAR